BEGIN:VCALENDAR
VERSION:2.0
PRODID:-//eventon.com NONSGML v1.0//EN
CALSCALE:GREGORIAN
METHOD:PUBLISH
BEGIN:VEVENT
UID:69e7455b10d1b
DTSTAMP:20260421T093731Z
DTSTART:20260519T102400Z
DTEND:20260522T102400Z
LOCATION:
SUMMARY:Elmia Plåt (Elmia Sheet-metal exhibition)
DESCRIPTION:Jönköping\,  Sweden - Nibbler\nhttps://www.jfy-international.
 com/hu/events/elmia-plat-elmia-sheet-metal-exhibition/
URL:https://www.jfy-international.com/hu/events/elmia-plat-elmia-sheet-metal-exhibition/
END:VEVENT
END:VCALENDAR